BEGIN:VCALENDAR
VERSION:2.0
PRODID:SchoolNow
CALSCALE:GREGORIAN
BEGIN:VEVENT
UID:4e19e00e-300f-11f0-a053-02cc0c8379f7
DTSTAMP:20251216T154523Z
SUMMARY:TIME TBD- BASKETBALL-F Boys @ LISLE TOURNAMENT (Game)
LOCATION:Away - LISLE TOURNAMENT
URL;VALUE=URI:https://www.cusd201.org/whs/athletics/calendar/8127916/time-t
 bd-basketball-f-boys-lisle-tournament-game
DTSTART:20260218T060000Z
DTEND:20260219T055900Z
END:VEVENT
END:VCALENDAR
