BEGIN:VCALENDAR
VERSION:2.0
PRODID:SchoolNow
CALSCALE:GREGORIAN
BEGIN:VEVENT
UID:4e19e2f2-300f-11f0-bcc2-02cc0c8379f7
DTSTAMP:20251216T154522Z
SUMMARY:TIME TBD- BASKETBALL-V Boys @ Beecher HS Shootout (Game)
LOCATION:Away - Beecher HS Shootout
URL;VALUE=URI:https://www.cusd201.org/whs/athletics/calendar/8127919/time-t
 bd-basketball-v-boys-beecher-hs-shootout-game
DTSTART:20260131T060000Z
DTEND:20260201T055900Z
END:VEVENT
END:VCALENDAR
