BEGIN:VCALENDAR
VERSION:2.0
PRODID:SchoolNow
CALSCALE:GREGORIAN
BEGIN:VEVENT
UID:4e19e3ce-300f-11f0-bf3a-02cc0c8379f7
DTSTAMP:20251216T154522Z
SUMMARY:GOLF-V Girls - VS IC Catholic Prep (Game)
LOCATION:HOME - Twin Lakes Golf Club
URL;VALUE=URI:https://www.cusd201.org/whs/athletics/calendar/8127920/golf-v
 -girls-vs-ic-catholic-prep-game
DTSTART:20250902T213000Z
DTEND:20250903T000000Z
END:VEVENT
END:VCALENDAR
