BEGIN:VCALENDAR
VERSION:2.0
PRODID:SchoolNow
CALSCALE:GREGORIAN
BEGIN:VEVENT
UID:4e19e66c-300f-11f0-8a18-02cc0c8379f7
DTSTAMP:20251216T154522Z
SUMMARY:TIME TBD- BASKETBALL-V Girls @ Lisle Holiday Classic (Game)
LOCATION:Away - Lisle Holiday Classic
URL;VALUE=URI:https://www.cusd201.org/whs/athletics/calendar/8127923/time-t
 bd-basketball-v-girls-lisle-holiday-classic-game
DTSTART:20251226T060000Z
DTEND:20251227T055900Z
END:VEVENT
END:VCALENDAR
