BEGIN:VCALENDAR
VERSION:2.0
PRODID:SchoolNow
CALSCALE:GREGORIAN
BEGIN:VEVENT
UID:4e19eb9e-300f-11f0-be87-02cc0c8379f7
DTSTAMP:20251216T154522Z
SUMMARY:TIME TBD- BASKETBALL-S Girls @ Lisle Holiday Classic (Game)
LOCATION:Away - Lisle Holiday Classic
URL;VALUE=URI:https://www.cusd201.org/whs/athletics/calendar/8127929/time-t
 bd-basketball-s-girls-lisle-holiday-classic-game
DTSTART:20251229T060000Z
DTEND:20251230T055900Z
END:VEVENT
END:VCALENDAR
