BEGIN:VCALENDAR
VERSION:2.0
PRODID:SchoolNow
CALSCALE:GREGORIAN
BEGIN:VEVENT
UID:4e19ef04-300f-11f0-b080-02cc0c8379f7
DTSTAMP:20251216T154523Z
SUMMARY:CROSS COUNTRY-JV Girls @ Lisle (Game)
LOCATION:Away - Lisle
URL;VALUE=URI:https://www.cusd201.org/whs/athletics/calendar/8127933/cross-
 country-jv-girls-lisle-game
DTSTART:20251004T140000Z
DTEND:20251004T170000Z
END:VEVENT
END:VCALENDAR
