BEGIN:VCALENDAR
VERSION:2.0
PRODID:SchoolNow
CALSCALE:GREGORIAN
BEGIN:VEVENT
UID:4e19f0e4-300f-11f0-83e9-02cc0c8379f7
DTSTAMP:20251216T154523Z
SUMMARY:TIME TBD- WRESTLING-V Girls @ Naperville Central (Game)
LOCATION:Away - Naperville Central
URL;VALUE=URI:https://www.cusd201.org/whs/athletics/calendar/8127935/time-t
 bd-wrestling-v-girls-naperville-central-game
DTSTART:20260102T060000Z
DTEND:20260103T055900Z
END:VEVENT
END:VCALENDAR
