BEGIN:VCALENDAR
VERSION:2.0
PRODID:SchoolNow
CALSCALE:GREGORIAN
BEGIN:VEVENT
UID:4e19f1b6-300f-11f0-bfe5-02cc0c8379f7
DTSTAMP:20251216T154522Z
SUMMARY:GOLF-V Girls @ Nazareth Academy (Game)
LOCATION:Away - Sugar Creek GC
URL;VALUE=URI:https://www.cusd201.org/whs/athletics/calendar/8127936/golf-v
 -girls-nazareth-academy-game
DTSTART:20250904T203000Z
DTEND:20250904T230000Z
END:VEVENT
END:VCALENDAR
