BEGIN:VCALENDAR
VERSION:2.0
PRODID:SchoolNow
CALSCALE:GREGORIAN
BEGIN:VEVENT
UID:4e628278-300f-11f0-9c70-02cc0c8379f7
DTSTAMP:20251216T154522Z
SUMMARY:TIME TBD- BASEBALL-V Boys @ Rochelle Zell (Game)
LOCATION:Away - Rochelle Zell
URL;VALUE=URI:https://www.cusd201.org/whs/athletics/calendar/8127947/time-t
 bd-baseball-v-boys-rochelle-zell-game
DTSTART:20260504T050000Z
DTEND:20260505T045900Z
END:VEVENT
END:VCALENDAR
