BEGIN:VCALENDAR
VERSION:2.0
PRODID:SchoolNow
CALSCALE:GREGORIAN
BEGIN:VEVENT
UID:4e628430-300f-11f0-a9fc-02cc0c8379f7
DTSTAMP:20251216T154523Z
SUMMARY:BASEBALL-V Boys - VS Christ the King (Game)
LOCATION:HOME - Westmont HS Varsity Baseball Field
URL;VALUE=URI:https://www.cusd201.org/whs/athletics/calendar/8127949/baseba
 ll-v-boys-vs-christ-the-king-game
DTSTART:20260413T213000Z
DTEND:20260413T233000Z
END:VEVENT
END:VCALENDAR
