BEGIN:VCALENDAR
VERSION:2.0
PRODID:SchoolNow
CALSCALE:GREGORIAN
BEGIN:VEVENT
UID:4e62850c-300f-11f0-a545-02cc0c8379f7
DTSTAMP:20251216T154523Z
SUMMARY:TIME TBD- BASEBALL-V Boys - VS Holy Trinity (Game)
LOCATION:HOME - Westmont HS Varsity Baseball Field
URL;VALUE=URI:https://www.cusd201.org/whs/athletics/calendar/8127950/time-t
 bd-baseball-v-boys-vs-holy-trinity-game
DTSTART:20260415T050000Z
DTEND:20260416T045900Z
END:VEVENT
END:VCALENDAR
