BEGIN:VCALENDAR
VERSION:2.0
PRODID:SchoolNow
CALSCALE:GREGORIAN
BEGIN:VEVENT
UID:4e6286ba-300f-11f0-aa59-02cc0c8379f7
DTSTAMP:20251216T154523Z
SUMMARY:TIME TBD- BASEBALL-V Boys @ CICS/Northtown (Game)
LOCATION:Away - CICS/Northtown
URL;VALUE=URI:https://www.cusd201.org/whs/athletics/calendar/8127952/time-t
 bd-baseball-v-boys-cics-northtown-game
DTSTART:20260420T050000Z
DTEND:20260421T045900Z
END:VEVENT
END:VCALENDAR
