BEGIN:VCALENDAR
VERSION:2.0
PRODID:SchoolNow
CALSCALE:GREGORIAN
BEGIN:VEVENT
UID:4e628796-300f-11f0-a59c-02cc0c8379f7
DTSTAMP:20251216T154523Z
SUMMARY:TIME TBD- BASEBALL-V Boys @ Walther Christian Academy (Game)
LOCATION:Away - Walther Christian Academy
URL;VALUE=URI:https://www.cusd201.org/whs/athletics/calendar/8127953/time-t
 bd-baseball-v-boys-walther-christian-academy-game
DTSTART:20260422T050000Z
DTEND:20260423T045900Z
END:VEVENT
END:VCALENDAR
