BEGIN:VCALENDAR
VERSION:2.0
PRODID:SchoolNow
CALSCALE:GREGORIAN
BEGIN:VEVENT
UID:4e628aca-300f-11f0-a994-02cc0c8379f7
DTSTAMP:20251216T154522Z
SUMMARY:TIME TBD- BASEBALL-V Boys - VS Cristo Rey (Game)
LOCATION:HOME - Westmont HS Varsity Baseball Field
URL;VALUE=URI:https://www.cusd201.org/whs/athletics/calendar/8127956/time-t
 bd-baseball-v-boys-vs-cristo-rey-game
DTSTART:20260429T050000Z
DTEND:20260430T045900Z
END:VEVENT
END:VCALENDAR
