BEGIN:VCALENDAR
VERSION:2.0
PRODID:SchoolNow
CALSCALE:GREGORIAN
BEGIN:VEVENT
UID:4e628f02-300f-11f0-b763-02cc0c8379f7
DTSTAMP:20251216T154523Z
SUMMARY:TRACK and FIELD-V Boys - VS TBA (Game)
LOCATION:HOME - Westmont HS Stadium
URL;VALUE=URI:https://www.cusd201.org/whs/athletics/calendar/8127960/track-
 and-field-v-boys-vs-tba-game
DTSTART:20260428T213000Z
DTEND:20260429T003000Z
END:VEVENT
END:VCALENDAR
