BEGIN:VCALENDAR
VERSION:2.0
PRODID:SchoolNow
CALSCALE:GREGORIAN
BEGIN:VEVENT
UID:4e6290c4-300f-11f0-9731-02cc0c8379f7
DTSTAMP:20251216T154522Z
SUMMARY:TIME TBD- TRACK and FIELD-V Girls - VS Steve Wolf Invitational (Gam
 e)
LOCATION:HOME - Westmont HS Stadium
URL;VALUE=URI:https://www.cusd201.org/whs/athletics/calendar/8127962/time-t
 bd-track-and-field-v-girls-vs-steve-wolf-invitational-game
DTSTART:20260411T140000Z
DTEND:20260412T045900Z
END:VEVENT
END:VCALENDAR
