BEGIN:VCALENDAR
VERSION:2.0
PRODID:SchoolNow
CALSCALE:GREGORIAN
BEGIN:VEVENT
UID:4e6291a0-300f-11f0-834c-02cc0c8379f7
DTSTAMP:20251216T154523Z
SUMMARY:TRACK and FIELD-V Girls - VS TBA (Game)
LOCATION:HOME - Westmont HS Stadium
URL;VALUE=URI:https://www.cusd201.org/whs/athletics/calendar/8127963/track-
 and-field-v-girls-vs-tba-game
DTSTART:20260414T213000Z
DTEND:20260415T003000Z
END:VEVENT
END:VCALENDAR
