BEGIN:VCALENDAR
VERSION:2.0
PRODID:SchoolNow
CALSCALE:GREGORIAN
BEGIN:VEVENT
UID:4e629524-300f-11f0-93b9-02cc0c8379f7
DTSTAMP:20251216T154523Z
SUMMARY:TIME TBD- TRACK and FIELD-JV Girls - VS Westmont JV Invite (Game)
LOCATION:HOME - Westmont HS Stadium
URL;VALUE=URI:https://www.cusd201.org/whs/athletics/calendar/8127967/time-t
 bd-track-and-field-jv-girls-vs-westmont-jv-invite-game
DTSTART:20260511T213000Z
DTEND:20260512T045900Z
END:VEVENT
END:VCALENDAR
