BEGIN:VCALENDAR
VERSION:2.0
PRODID:SchoolNow
CALSCALE:GREGORIAN
BEGIN:VEVENT
UID:4e6295f6-300f-11f0-a29b-02cc0c8379f7
DTSTAMP:20251216T154523Z
SUMMARY:TIME TBD- ADMINISTRATION-N - VS Winter Sports Awards (Game)
LOCATION:HOME -
URL;VALUE=URI:https://www.cusd201.org/whs/athletics/calendar/8127968/time-t
 bd-administration-n-vs-winter-sports-awards-game
DTSTART:20260303T003000Z
DTEND:20260303T055900Z
END:VEVENT
END:VCALENDAR
