BEGIN:VCALENDAR
VERSION:2.0
PRODID:SchoolNow
CALSCALE:GREGORIAN
BEGIN:VEVENT
UID:4e6296d2-300f-11f0-9c35-02cc0c8379f7
DTSTAMP:20251216T154523Z
SUMMARY:ADMINISTRATION-N - VS FALL SPORTS AWARDS NIGHT (Game)
LOCATION:HOME -
URL;VALUE=URI:https://www.cusd201.org/whs/athletics/calendar/8127969/admini
 stration-n-vs-fall-sports-awards-night-game
DTSTART:20251111T003000Z
DTEND:20251111T023000Z
END:VEVENT
END:VCALENDAR
