BEGIN:VCALENDAR
VERSION:2.0
PRODID:SchoolNow
CALSCALE:GREGORIAN
BEGIN:VEVENT
UID:4e6297a4-300f-11f0-8f2b-02cc0c8379f7
DTSTAMP:20251216T154523Z
SUMMARY:SOCCER-V Boys - VS Lisle (Game)
LOCATION:HOME - Westmont HS Stadium
URL;VALUE=URI:https://www.cusd201.org/whs/athletics/calendar/8127970/soccer
 -v-boys-vs-lisle-game
DTSTART:20250911T233000Z
DTEND:20250912T013000Z
END:VEVENT
END:VCALENDAR
