BEGIN:VCALENDAR
VERSION:2.0
PRODID:SchoolNow
CALSCALE:GREGORIAN
BEGIN:VEVENT
UID:4e62988a-300f-11f0-b4bb-02cc0c8379f7
DTSTAMP:20251216T154523Z
SUMMARY:SOCCER-V Boys - VS Chesterton Academy (Game)
LOCATION:HOME - Westmont HS Stadium
URL;VALUE=URI:https://www.cusd201.org/whs/athletics/calendar/8127971/soccer
 -v-boys-vs-chesterton-academy-game
DTSTART:20250923T220000Z
DTEND:20250924T000000Z
END:VEVENT
END:VCALENDAR
