BEGIN:VCALENDAR
VERSION:2.0
PRODID:SchoolNow
CALSCALE:GREGORIAN
BEGIN:VEVENT
UID:4e62995c-300f-11f0-a300-02cc0c8379f7
DTSTAMP:20251216T154522Z
SUMMARY:TIME TBD- WRESTLING-V Boys @ Plano (Game)
LOCATION:Away - Plano
URL;VALUE=URI:https://www.cusd201.org/whs/athletics/calendar/8127972/time-t
 bd-wrestling-v-boys-plano-game
DTSTART:20251212T233000Z
DTEND:20251213T055900Z
END:VEVENT
END:VCALENDAR
