BEGIN:VCALENDAR
VERSION:2.0
PRODID:SchoolNow
CALSCALE:GREGORIAN
BEGIN:VEVENT
UID:4e629a38-300f-11f0-b84c-02cc0c8379f7
DTSTAMP:20251216T154523Z
SUMMARY:TIME TBD- WRESTLING-V Boys @ Plano (Game)
LOCATION:Away - Plano
URL;VALUE=URI:https://www.cusd201.org/whs/athletics/calendar/8127973/time-t
 bd-wrestling-v-boys-plano-game
DTSTART:20251213T150000Z
DTEND:20251214T055900Z
END:VEVENT
END:VCALENDAR
