BEGIN:VCALENDAR
VERSION:2.0
PRODID:SchoolNow
CALSCALE:GREGORIAN
BEGIN:VEVENT
UID:4e629b14-300f-11f0-9581-02cc0c8379f7
DTSTAMP:20251216T154522Z
SUMMARY:TIME TBD- BASEBALL-V Boys @ Newark (Game)
LOCATION:Away - Newark
URL;VALUE=URI:https://www.cusd201.org/whs/athletics/calendar/8127974/time-t
 bd-baseball-v-boys-newark-game
DTSTART:20260411T160000Z
DTEND:20260412T045900Z
END:VEVENT
END:VCALENDAR
