BEGIN:VCALENDAR
VERSION:2.0
PRODID:SchoolNow
CALSCALE:GREGORIAN
BEGIN:VEVENT
UID:4e629bfa-300f-11f0-936b-02cc0c8379f7
DTSTAMP:20251216T154523Z
SUMMARY:TIME TBD- BASEBALL-JV Boys @ Newark (Game)
LOCATION:Away - Newark
URL;VALUE=URI:https://www.cusd201.org/whs/athletics/calendar/8127975/time-t
 bd-baseball-jv-boys-newark-game
DTSTART:20260411T180000Z
DTEND:20260412T045900Z
END:VEVENT
END:VCALENDAR
