BEGIN:VCALENDAR
VERSION:2.0
PRODID:SchoolNow
CALSCALE:GREGORIAN
BEGIN:VEVENT
UID:4e629e84-300f-11f0-a71d-02cc0c8379f7
DTSTAMP:20251216T154523Z
SUMMARY:VOLLEYBALL-JV Girls @ Christ the King (Game)
LOCATION:Away - Christ the King
URL;VALUE=URI:https://www.cusd201.org/whs/athletics/calendar/8127978/volley
 ball-jv-girls-christ-the-king-game
DTSTART:20250924T000000Z
DTEND:20250924T010000Z
END:VEVENT
END:VCALENDAR
