BEGIN:VCALENDAR
VERSION:2.0
PRODID:SchoolNow
CALSCALE:GREGORIAN
BEGIN:VEVENT
UID:4e629f60-300f-11f0-88ee-02cc0c8379f7
DTSTAMP:20251216T154522Z
SUMMARY:VOLLEYBALL-JV Girls - VS Our Lady of Tepeyac (Game)
LOCATION:HOME - Westmont HS Gym
URL;VALUE=URI:https://www.cusd201.org/whs/athletics/calendar/8127979/volley
 ball-jv-girls-vs-our-lady-of-tepeyac-game
DTSTART:20251007T220000Z
DTEND:20251007T230000Z
END:VEVENT
END:VCALENDAR
