BEGIN:VCALENDAR
VERSION:2.0
PRODID:SchoolNow
CALSCALE:GREGORIAN
BEGIN:VEVENT
UID:4e62a03c-300f-11f0-b092-02cc0c8379f7
DTSTAMP:20251216T154523Z
SUMMARY:VOLLEYBALL-V Girls - VS Our Lady of Tepeyac (Game)
LOCATION:HOME - Westmont HS Gym
URL;VALUE=URI:https://www.cusd201.org/whs/athletics/calendar/8127980/volley
 ball-v-girls-vs-our-lady-of-tepeyac-game
DTSTART:20251007T230000Z
DTEND:20251008T000000Z
END:VEVENT
END:VCALENDAR
