BEGIN:VCALENDAR
VERSION:2.0
PRODID:SchoolNow
CALSCALE:GREGORIAN
BEGIN:VEVENT
UID:4e62a10e-300f-11f0-94f5-02cc0c8379f7
DTSTAMP:20251216T154522Z
SUMMARY:BASKETBALL-JV Girls @ Christ the King (Game)
LOCATION:Away - Christ The king
URL;VALUE=URI:https://www.cusd201.org/whs/athletics/calendar/8127981/basket
 ball-jv-girls-christ-the-king-game
DTSTART:20260109T000000Z
DTEND:20260109T013000Z
END:VEVENT
END:VCALENDAR
