BEGIN:VCALENDAR
VERSION:2.0
PRODID:SchoolNow
CALSCALE:GREGORIAN
BEGIN:VEVENT
UID:4e62a2c6-300f-11f0-b732-02cc0c8379f7
DTSTAMP:20251216T154523Z
SUMMARY:BASKETBALL-JV Boys @ CICS/Northtown (Game)
LOCATION:Away - CICS/Northtown
URL;VALUE=URI:https://www.cusd201.org/whs/athletics/calendar/8127983/basket
 ball-jv-boys-cics-northtown-game
DTSTART:20251205T230000Z
DTEND:20251206T003000Z
END:VEVENT
END:VCALENDAR
