BEGIN:VCALENDAR
VERSION:2.0
PRODID:SchoolNow
CALSCALE:GREGORIAN
BEGIN:VEVENT
UID:4e62a550-300f-11f0-984c-02cc0c8379f7
DTSTAMP:20251216T154522Z
SUMMARY:BASKETBALL-JV Boys @ Cristo Rey (Game)
LOCATION:Away - Cristo Rey
URL;VALUE=URI:https://www.cusd201.org/whs/athletics/calendar/8127986/basket
 ball-jv-boys-cristo-rey-game
DTSTART:20260130T233000Z
DTEND:20260131T010000Z
END:VEVENT
END:VCALENDAR
