BEGIN:VCALENDAR
VERSION:2.0
PRODID:SchoolNow
CALSCALE:GREGORIAN
BEGIN:VEVENT
UID:4e62a622-300f-11f0-9d27-02cc0c8379f7
DTSTAMP:20251216T154523Z
SUMMARY:BASKETBALL-JV Girls - VS Cristo Rey (Game)
LOCATION:HOME - Westmont HS Gym
URL;VALUE=URI:https://www.cusd201.org/whs/athletics/calendar/8127987/basket
 ball-jv-girls-vs-cristo-rey-game
DTSTART:20260131T163000Z
DTEND:20260131T180000Z
END:VEVENT
END:VCALENDAR
