BEGIN:VCALENDAR
VERSION:2.0
PRODID:SchoolNow
CALSCALE:GREGORIAN
BEGIN:VEVENT
UID:4e62a6fe-300f-11f0-9e0d-02cc0c8379f7
DTSTAMP:20251216T154522Z
SUMMARY:VOLLEYBALL-F Girls - VS Walther Christian Academy (Game)
LOCATION:HOME - Westmont HS Gym
URL;VALUE=URI:https://www.cusd201.org/whs/athletics/calendar/8127988/volley
 ball-f-girls-vs-walther-christian-academy-game
DTSTART:20251016T220000Z
DTEND:20251016T230000Z
END:VEVENT
END:VCALENDAR
