BEGIN:VCALENDAR
VERSION:2.0
PRODID:SchoolNow
CALSCALE:GREGORIAN
BEGIN:VEVENT
UID:4e62a7da-300f-11f0-af0b-02cc0c8379f7
DTSTAMP:20251216T154522Z
SUMMARY:VOLLEYBALL-JV Girls - VS Walther Christian Academy (Game)
LOCATION:HOME - Westmont HS Gym
URL;VALUE=URI:https://www.cusd201.org/whs/athletics/calendar/8127989/volley
 ball-jv-girls-vs-walther-christian-academy-game
DTSTART:20251016T230000Z
DTEND:20251017T000000Z
END:VEVENT
END:VCALENDAR
