BEGIN:VCALENDAR
VERSION:2.0
PRODID:SchoolNow
CALSCALE:GREGORIAN
BEGIN:VEVENT
UID:4e62a8ac-300f-11f0-8937-02cc0c8379f7
DTSTAMP:20251216T154523Z
SUMMARY:BASKETBALL-JV Girls @ Walther Christian Academy (Game)
LOCATION:Away - Walther Christian Academy
URL;VALUE=URI:https://www.cusd201.org/whs/athletics/calendar/8127990/basket
 ball-jv-girls-walther-christian-academy-game
DTSTART:20260113T233000Z
DTEND:20260114T010000Z
END:VEVENT
END:VCALENDAR
