BEGIN:VCALENDAR
VERSION:2.0
PRODID:SchoolNow
CALSCALE:GREGORIAN
BEGIN:VEVENT
UID:4e62a988-300f-11f0-a666-02cc0c8379f7
DTSTAMP:20251216T154523Z
SUMMARY:TIME TBD- BASKETBALL-JV Boys @ Walther Christian Academy (Game)
LOCATION:Away - Walther Christian Academy
URL;VALUE=URI:https://www.cusd201.org/whs/athletics/calendar/8127991/time-t
 bd-basketball-jv-boys-walther-christian-academy-game
DTSTART:20260212T000000Z
DTEND:20260212T055900Z
END:VEVENT
END:VCALENDAR
