BEGIN:VCALENDAR
VERSION:2.0
PRODID:SchoolNow
CALSCALE:GREGORIAN
BEGIN:VEVENT
UID:4e62ab4a-300f-11f0-b2f2-02cc0c8379f7
DTSTAMP:20251216T154523Z
SUMMARY:TIME TBD- BASKETBALL-F Boys @ Walther Christian Academy (Game)
LOCATION:Away - Walther Christian Academy
URL;VALUE=URI:https://www.cusd201.org/whs/athletics/calendar/8127992/time-t
 bd-basketball-f-boys-walther-christian-academy-game
DTSTART:20260211T223000Z
DTEND:20260212T055900Z
END:VEVENT
END:VCALENDAR
