BEGIN:VCALENDAR
VERSION:2.0
PRODID:SchoolNow
CALSCALE:GREGORIAN
BEGIN:VEVENT
UID:4e62ac94-300f-11f0-b145-02cc0c8379f7
DTSTAMP:20251216T154523Z
SUMMARY:BASKETBALL-JV Boys @ Ida Crown (Game)
LOCATION:Away - Ida Crown
URL;VALUE=URI:https://www.cusd201.org/whs/athletics/calendar/8127993/basket
 ball-jv-boys-ida-crown-game
DTSTART:20260107T233000Z
DTEND:20260108T010000Z
END:VEVENT
END:VCALENDAR
