BEGIN:VCALENDAR
VERSION:2.0
PRODID:SchoolNow
CALSCALE:GREGORIAN
BEGIN:VEVENT
UID:4e62adb6-300f-11f0-a864-02cc0c8379f7
DTSTAMP:20251216T154522Z
SUMMARY:BASKETBALL-JV Girls @ Ida Crown (Game)
LOCATION:Away - Ida Crown
URL;VALUE=URI:https://www.cusd201.org/whs/athletics/calendar/8127994/basket
 ball-jv-girls-ida-crown-game
DTSTART:20260120T233000Z
DTEND:20260121T010000Z
END:VEVENT
END:VCALENDAR
