BEGIN:VCALENDAR
VERSION:2.0
PRODID:SchoolNow
CALSCALE:GREGORIAN
BEGIN:VEVENT
UID:4e62aec4-300f-11f0-bda1-02cc0c8379f7
DTSTAMP:20251216T154523Z
SUMMARY:WRESTLING-V Boys - VS Oswego East (Game)
LOCATION:HOME - Westmont HS Gym
URL;VALUE=URI:https://www.cusd201.org/whs/athletics/calendar/8127995/wrestl
 ing-v-boys-vs-oswego-east-game
DTSTART:20260122T233000Z
DTEND:20260123T013000Z
END:VEVENT
END:VCALENDAR
