BEGIN:VCALENDAR
VERSION:2.0
PRODID:SchoolNow
CALSCALE:GREGORIAN
BEGIN:VEVENT
UID:4e62b0c2-300f-11f0-b5a9-02cc0c8379f7
DTSTAMP:20251216T154523Z
SUMMARY:BASKETBALL-V Girls @ Lisle (Game)
LOCATION:Away - Lisle
URL;VALUE=URI:https://www.cusd201.org/whs/athletics/calendar/8127997/basket
 ball-v-girls-lisle-game
DTSTART:20260110T183000Z
DTEND:20260110T200000Z
END:VEVENT
END:VCALENDAR
