BEGIN:VCALENDAR
VERSION:2.0
PRODID:SchoolNow
CALSCALE:GREGORIAN
BEGIN:VEVENT
UID:4e62b1d0-300f-11f0-ae81-02cc0c8379f7
DTSTAMP:20251216T154522Z
SUMMARY:BASKETBALL-JV Girls @ Lisle (Game)
LOCATION:Away - Lisle
URL;VALUE=URI:https://www.cusd201.org/whs/athletics/calendar/8127998/basket
 ball-jv-girls-lisle-game
DTSTART:20260110T170000Z
DTEND:20260110T183000Z
END:VEVENT
END:VCALENDAR
