BEGIN:VCALENDAR
VERSION:2.0
PRODID:SchoolNow
CALSCALE:GREGORIAN
BEGIN:VEVENT
UID:7a986da8-3690-11f0-963b-0a58a9feac02
DTSTAMP:20251216T154522Z
SUMMARY:VOLLEYBALL-JV Girls @ LISLE TOURNAMENT (Game)
LOCATION:Away - LISLE TOURNAMENT
URL;VALUE=URI:https://www.cusd201.org/whs/athletics/calendar/8176706/volley
 ball-jv-girls-lisle-tournament-game
DTSTART:20251018T160000Z
DTEND:20251018T170000Z
END:VEVENT
END:VCALENDAR
