BEGIN:VCALENDAR
VERSION:2.0
PRODID:SchoolNow
CALSCALE:GREGORIAN
BEGIN:VEVENT
UID:6276481e-3828-11f0-b9f8-0a58a9feac02
DTSTAMP:20251216T154522Z
SUMMARY:BASEBALL-V Boys - VS Beecher High School (Game)
LOCATION:HOME - Westmont HS Varsity Baseball Field
URL;VALUE=URI:https://www.cusd201.org/whs/athletics/calendar/8188864/baseba
 ll-v-boys-vs-beecher-high-school-game
DTSTART:20260520T213000Z
DTEND:20260520T233000Z
END:VEVENT
END:VCALENDAR
