BEGIN:VCALENDAR
VERSION:2.0
PRODID:SchoolNow
CALSCALE:GREGORIAN
BEGIN:VEVENT
UID:62764b84-3828-11f0-83e8-0a58a9feac02
DTSTAMP:20251216T154523Z
SUMMARY:BASEBALL-JV Boys @ Beecher High School (Game)
LOCATION:Away - Beecher High School
URL;VALUE=URI:https://www.cusd201.org/whs/athletics/calendar/8188865/baseba
 ll-jv-boys-beecher-high-school-game
DTSTART:20260520T213000Z
DTEND:20260520T233000Z
END:VEVENT
END:VCALENDAR
