BEGIN:VCALENDAR
VERSION:2.0
PRODID:SchoolNow
CALSCALE:GREGORIAN
BEGIN:VEVENT
UID:62764cc4-3828-11f0-a7af-0a58a9feac02
DTSTAMP:20251216T154523Z
SUMMARY:BASEBALL-V Boys @ Parkview Christian (Game)
LOCATION:Away - Parkview Christian
URL;VALUE=URI:https://www.cusd201.org/whs/athletics/calendar/8188866/baseba
 ll-v-boys-parkview-christian-game
DTSTART:20260407T213000Z
DTEND:20260407T233000Z
END:VEVENT
END:VCALENDAR
