BEGIN:VCALENDAR
VERSION:2.0
PRODID:SchoolNow
CALSCALE:GREGORIAN
BEGIN:VEVENT
UID:298db176-3c57-11f0-886a-0e101e0bc23f
DTSTAMP:20251216T154522Z
SUMMARY:GOLF-V Girls @ Timothy Christian (Game)
LOCATION:Away - Lombard Golf Course
URL;VALUE=URI:https://www.cusd201.org/whs/athletics/calendar/8218451/golf-v
 -girls-timothy-christian-game
DTSTART:20250915T210000Z
DTEND:20250916T000000Z
END:VEVENT
END:VCALENDAR
