BEGIN:VCALENDAR
VERSION:2.0
PRODID:SchoolNow
CALSCALE:GREGORIAN
BEGIN:VEVENT
UID:298db306-3c57-11f0-9f35-0e101e0bc23f
DTSTAMP:20251216T154523Z
SUMMARY:TRACK and FIELD-V Boys @ Reed Custer (Game)
LOCATION:Away - Reed Custer
URL;VALUE=URI:https://www.cusd201.org/whs/athletics/calendar/8218452/track-
 and-field-v-boys-reed-custer-game
DTSTART:20260321T150000Z
DTEND:20260321T200000Z
END:VEVENT
END:VCALENDAR
