BEGIN:VCALENDAR
VERSION:2.0
PRODID:SchoolNow
CALSCALE:GREGORIAN
BEGIN:VEVENT
UID:298db428-3c57-11f0-8109-0e101e0bc23f
DTSTAMP:20251216T154523Z
SUMMARY:TRACK and FIELD-V Girls @ Reed Custer (Game)
LOCATION:Away - Reed Custer
URL;VALUE=URI:https://www.cusd201.org/whs/athletics/calendar/8218453/track-
 and-field-v-girls-reed-custer-game
DTSTART:20260321T150000Z
DTEND:20260321T200000Z
END:VEVENT
END:VCALENDAR
